BEGIN:VCALENDAR
VERSION:2.0
PRODID:-//Cake Profiler - ECPv4.6.26//NONSGML v1.0//EN
CALSCALE:GREGORIAN
METHOD:PUBLISH
X-WR-CALNAME:Cake Profiler
X-ORIGINAL-URL:https://cakeprofiler.co.nz
X-WR-CALDESC:Events for Cake Profiler
BEGIN:VEVENT
DTSTART;TZID=Pacific/Auckland:20181202T100000
DTEND;TZID=Pacific/Auckland:20181202T150000
DTSTAMP:20181218T053603
CREATED:20181120T230317Z
LAST-MODIFIED:20181120T230317Z
UID:19964-1543744800-1543762800@cakeprofiler.co.nz
SUMMARY:Kids GingerBread House
DESCRIPTION:Cost $89 \nJoin the cake Profiler this Christmas. \nGet to decorate your own project specially designed for creative\, little hands. \nAnd then take it home to share with friends and family. \nChildren must be 7yrs or older \n
URL:https://cakeprofiler.co.nz/class/kids-gingerbread-house/
LOCATION:Profiler HQ Auckland\, 2/44 Anzac road\, Browns Bay\, Auckland\, 0630
GEO:-36.7167939;174.7451037
X-APPLE-STRUCTURED-LOCATION;VALUE=URI;X-ADDRESS=Profiler HQ Auckland 2/44 Anzac road Browns Bay Auckland 0630;X-APPLE-RADIUS=500;X-TITLE=2/44 Anzac road\, Browns Bay:geo:174.7451037,-36.7167939
CATEGORIES:Class
ATTACH;FMTTYPE=image/jpeg:https://cakeprofiler.co.nz/wp-content/uploads/2018/11/KidsGingerbreadClass.jpg
ORGANIZER;CN="Kevin%20Martin":MAILTO:kevin@cakeprofiler.co.nz
END:VEVENT
BEGIN:VEVENT
DTSTART;TZID=Pacific/Auckland:20181209T100000
DTEND;TZID=Pacific/Auckland:20181209T150000
DTSTAMP:20181218T053603
CREATED:20181120T231206Z
LAST-MODIFIED:20181120T231206Z
UID:19968-1544349600-1544367600@cakeprofiler.co.nz
SUMMARY:Gingerbread House
DESCRIPTION:
URL:https://cakeprofiler.co.nz/class/gingerbread-house/
LOCATION:Profiler HQ Auckland\, 2/44 Anzac road\, Browns Bay\, Auckland\, 0630
GEO:-36.7167939;174.7451037
X-APPLE-STRUCTURED-LOCATION;VALUE=URI;X-ADDRESS=Profiler HQ Auckland 2/44 Anzac road Browns Bay Auckland 0630;X-APPLE-RADIUS=500;X-TITLE=2/44 Anzac road\, Browns Bay:geo:174.7451037,-36.7167939
CATEGORIES:Class
ATTACH;FMTTYPE=image/jpeg:https://cakeprofiler.co.nz/wp-content/uploads/2018/11/gingerbreadhouse.jpg
ORGANIZER;CN="Kevin%20Martin":MAILTO:kevin@cakeprofiler.co.nz
END:VEVENT
BEGIN:VEVENT
DTSTART;TZID=Pacific/Auckland:20181216T100000
DTEND;TZID=Pacific/Auckland:20181216T150000
DTSTAMP:20181218T053603
CREATED:20181120T232347Z
LAST-MODIFIED:20181120T232347Z
UID:19972-1544954400-1544972400@cakeprofiler.co.nz
SUMMARY:Kids Smash Christmas Tree
DESCRIPTION:
URL:https://cakeprofiler.co.nz/class/kids-smash-christmas-tree/
LOCATION:Profiler HQ Auckland\, 2/44 Anzac road\, Browns Bay\, Auckland\, 0630
GEO:-36.7167939;174.7451037
X-APPLE-STRUCTURED-LOCATION;VALUE=URI;X-ADDRESS=Profiler HQ Auckland 2/44 Anzac road Browns Bay Auckland 0630;X-APPLE-RADIUS=500;X-TITLE=2/44 Anzac road\, Browns Bay:geo:174.7451037,-36.7167939
CATEGORIES:Class
ATTACH;FMTTYPE=image/jpeg:https://cakeprofiler.co.nz/wp-content/uploads/2018/11/Kids-Smash-Tree.jpg
ORGANIZER;CN="Kevin%20Martin":MAILTO:kevin@cakeprofiler.co.nz
END:VEVENT
BEGIN:VEVENT
DTSTART;TZID=Pacific/Auckland:20181223T090000
DTEND;TZID=Pacific/Auckland:20181223T120000
DTSTAMP:20181218T053603
CREATED:20181121T004219Z
LAST-MODIFIED:20181216T070345Z
UID:19976-1545555600-1545566400@cakeprofiler.co.nz
SUMMARY:Kids Xmas Cookies
DESCRIPTION:
URL:https://cakeprofiler.co.nz/class/kids-xmas-cookies/2018-12-23/
LOCATION:Profiler HQ Auckland\, 2/44 Anzac road\, Browns Bay\, Auckland\, 0630
GEO:-36.7167939;174.7451037
X-APPLE-STRUCTURED-LOCATION;VALUE=URI;X-ADDRESS=Profiler HQ Auckland 2/44 Anzac road Browns Bay Auckland 0630;X-APPLE-RADIUS=500;X-TITLE=2/44 Anzac road\, Browns Bay:geo:174.7451037,-36.7167939
ORGANIZER;CN="Kevin%20Martin":MAILTO:kevin@cakeprofiler.co.nz
END:VEVENT
BEGIN:VEVENT
DTSTART;TZID=Pacific/Auckland:20181223T130000
DTEND;TZID=Pacific/Auckland:20181223T160000
DTSTAMP:20181218T053603
CREATED:20181121T004219Z
LAST-MODIFIED:20181216T070347Z
UID:19981-1545570000-1545580800@cakeprofiler.co.nz
SUMMARY:Kids Xmas Cookies
DESCRIPTION:
URL:https://cakeprofiler.co.nz/class/kids-xmas-cookies/2018-12-23/2/
LOCATION:Profiler HQ Auckland\, 2/44 Anzac road\, Browns Bay\, Auckland\, 0630
GEO:-36.7167939;174.7451037
X-APPLE-STRUCTURED-LOCATION;VALUE=URI;X-ADDRESS=Profiler HQ Auckland 2/44 Anzac road Browns Bay Auckland 0630;X-APPLE-RADIUS=500;X-TITLE=2/44 Anzac road\, Browns Bay:geo:174.7451037,-36.7167939
ORGANIZER;CN="Kevin%20Martin":MAILTO:kevin@cakeprofiler.co.nz
END:VEVENT
END:VCALENDAR